21.1666668332490850
0.000000
0.000000
-21.1666668332490890
1704874.3642221401000000
4756411.7115145214000000
