21.1666668332490850
0.000000
0.000000
-21.1666668332490890
1639684.7033818599000000
4792577.3492345866000000
