21.1666668332490850
0.000000
0.000000
-21.1666668332490890
1655533.2768704023000000
4791836.5144137526000000
